BEGIN:VCALENDAR
VERSION:2.0
PRODID:-//Transferzentrum für künstliche Intelligenz Bremen.AI - ECPv6.15.20//NONSGML v1.0//EN
CALSCALE:GREGORIAN
METHOD:PUBLISH
X-WR-CALNAME:Transferzentrum für künstliche Intelligenz Bremen.AI
X-ORIGINAL-URL:https://transferzentrum-bremen.ai
X-WR-CALDESC:Veranstaltungen für Transferzentrum für künstliche Intelligenz Bremen.AI
REFRESH-INTERVAL;VALUE=DURATION:PT1H
X-Robots-Tag:noindex
X-PUBLISHED-TTL:PT1H
BEGIN:VTIMEZONE
TZID:Europe/Berlin
BEGIN:DAYLIGHT
TZOFFSETFROM:+0100
TZOFFSETTO:+0200
TZNAME:CEST
DTSTART:20240331T010000
END:DAYLIGHT
BEGIN:STANDARD
TZOFFSETFROM:+0200
TZOFFSETTO:+0100
TZNAME:CET
DTSTART:20241027T010000
END:STANDARD
BEGIN:DAYLIGHT
TZOFFSETFROM:+0100
TZOFFSETTO:+0200
TZNAME:CEST
DTSTART:20250330T010000
END:DAYLIGHT
BEGIN:STANDARD
TZOFFSETFROM:+0200
TZOFFSETTO:+0100
TZNAME:CET
DTSTART:20251026T010000
END:STANDARD
BEGIN:DAYLIGHT
TZOFFSETFROM:+0100
TZOFFSETTO:+0200
TZNAME:CEST
DTSTART:20260329T010000
END:DAYLIGHT
BEGIN:STANDARD
TZOFFSETFROM:+0200
TZOFFSETTO:+0100
TZNAME:CET
DTSTART:20261025T010000
END:STANDARD
END:VTIMEZONE
BEGIN:VEVENT
DTSTART;TZID=Europe/Berlin:20251210T140000
DTEND;TZID=Europe/Berlin:20251210T170000
DTSTAMP:20260421T112848
CREATED:20250912T071110Z
LAST-MODIFIED:20250930T130104Z
UID:2250-1765375200-1765386000@transferzentrum-bremen.ai
SUMMARY:KI-Weihnachtswerkstatt
DESCRIPTION:✨ Magische Weihnachtsgrüße mit KI✨\n  \nIn der Weihnachtsausgabe unserer beliebten KI-Werkstatt zeigen wir Ihnen\, wie Sie mit unterschiedlichen KI-Tools personalisierte\, festliche und professionelle Weihnachtsgrüße für Ihre Lieben und für Ihre  Geschäftskund:innen gestalten – ganz einfach und ohne Vorkenntnisse! \n  \nAußerdem: Wahrscheinlich wird es Kekse geben   \nReferentinnen: Lola D. Dominquez & Anna Cordes\, Transfermanagerinnen \n  \n  \n \n 
URL:https://transferzentrum-bremen.ai/event/ki-weihnachtswerkstatt-neu/
LOCATION:Maschinenraum – DHI\, Konrad-Zuse-Straße 6A\, Bremen\, 28359\, Germany
CATEGORIES:Events Transferzentrum,Workshop
ATTACH;FMTTYPE=image/webp:https://transferzentrum-bremen.ai/wp-content/uploads/2025/09/1_Q4-xmas.webp
END:VEVENT
END:VCALENDAR